BEGIN:VCALENDAR
VERSION:2.0
PRODID:-//Bardney Group Parish Council//Meeting Calendar//EN
CALSCALE:GREGORIAN
METHOD:PUBLISH
BEGIN:VEVENT
UID:70625-2019-11-21@bardneygroup.parishadmin.xyz
DTSTAMP:20260420T080433Z
DTSTART;VALUE=DATE:2019-11-21
DTEND;VALUE=DATE:20191122
SUMMARY:Full Council Meeting – 21 November 2019
DESCRIPTION:Council Meeting\nView details: https://bardneygroup.parishadmin.xyz/meetings/full-council-meeting-21-november-2019/
URL:https://bardneygroup.parishadmin.xyz/meetings/full-council-meeting-21-november-2019/
END:VEVENT
END:VCALENDAR
