BEGIN:VCALENDAR
VERSION:2.0
PRODID:-//Bardney Group Parish Council//Meeting Calendar//EN
CALSCALE:GREGORIAN
METHOD:PUBLISH
BEGIN:VEVENT
UID:70627-2020-01-16@bardneygroup.parishadmin.xyz
DTSTAMP:20260420T082116Z
DTSTART;VALUE=DATE:2020-01-16
DTEND;VALUE=DATE:20200117
SUMMARY:Full Council Meeting – 16 January 2020
DESCRIPTION:Council Meeting\nView details: https://bardneygroup.parishadmin.xyz/meetings/full-council-meeting-16-january-2020/
URL:https://bardneygroup.parishadmin.xyz/meetings/full-council-meeting-16-january-2020/
END:VEVENT
END:VCALENDAR
