BEGIN:VCALENDAR
VERSION:2.0
PRODID:-//Bardney Group Parish Council//Meeting Calendar//EN
CALSCALE:GREGORIAN
METHOD:PUBLISH
BEGIN:VEVENT
UID:70629-2020-02-19@bardneygroup.parishadmin.xyz
DTSTAMP:20260420T081604Z
DTSTART;VALUE=DATE:2020-02-19
DTEND;VALUE=DATE:20200220
SUMMARY:Full Council Meeting – 19 February 2020
DESCRIPTION:Council Meeting\nView details: https://bardneygroup.parishadmin.xyz/meetings/full-council-meeting-19-february-2020/
URL:https://bardneygroup.parishadmin.xyz/meetings/full-council-meeting-19-february-2020/
END:VEVENT
END:VCALENDAR
