BEGIN:VCALENDAR
VERSION:2.0
PRODID:-//Bardney Group Parish Council//Meeting Calendar//EN
CALSCALE:GREGORIAN
METHOD:PUBLISH
BEGIN:VEVENT
UID:70631-2020-03-19@bardneygroup.parishadmin.xyz
DTSTAMP:20260420T081343Z
DTSTART;VALUE=DATE:2020-03-19
DTEND;VALUE=DATE:20200320
SUMMARY:Full Council Meeting – 19 March 2020
DESCRIPTION:Council Meeting\nView details: https://bardneygroup.parishadmin.xyz/meetings/full-council-meeting-19-march-2020/
URL:https://bardneygroup.parishadmin.xyz/meetings/full-council-meeting-19-march-2020/
END:VEVENT
END:VCALENDAR
