BEGIN:VCALENDAR
VERSION:2.0
PRODID:-//Bardney Group Parish Council//Meeting Calendar//EN
CALSCALE:GREGORIAN
METHOD:PUBLISH
BEGIN:VEVENT
UID:70635-2020-07-23@bardneygroup.parishadmin.xyz
DTSTAMP:20260422T083808Z
DTSTART;VALUE=DATE:2020-07-23
DTEND;VALUE=DATE:20200724
SUMMARY:Full Council Meeting – 23 July 2020
DESCRIPTION:Council Meeting\nView details: https://bardneygroup.parishadmin.xyz/meetings/full-council-meeting-23-july-2020/
URL:https://bardneygroup.parishadmin.xyz/meetings/full-council-meeting-23-july-2020/
END:VEVENT
END:VCALENDAR
