BEGIN:VCALENDAR
VERSION:2.0
PRODID:-//Bardney Group Parish Council//Meeting Calendar//EN
CALSCALE:GREGORIAN
METHOD:PUBLISH
BEGIN:VEVENT
UID:70637-2020-09-17@bardneygroup.parishadmin.xyz
DTSTAMP:20260422T083312Z
DTSTART;VALUE=DATE:2020-09-17
DTEND;VALUE=DATE:20200918
SUMMARY:Full Council Meeting – 17 September 2020
DESCRIPTION:Council Meeting\nView details: https://bardneygroup.parishadmin.xyz/meetings/full-council-meeting-17-september-2020/
URL:https://bardneygroup.parishadmin.xyz/meetings/full-council-meeting-17-september-2020/
END:VEVENT
END:VCALENDAR
