BEGIN:VCALENDAR
VERSION:2.0
PRODID:-//Bardney Group Parish Council//Meeting Calendar//EN
CALSCALE:GREGORIAN
METHOD:PUBLISH
BEGIN:VEVENT
UID:70639-2020-10-15@bardneygroup.parishadmin.xyz
DTSTAMP:20260422T100018Z
DTSTART;VALUE=DATE:2020-10-15
DTEND;VALUE=DATE:20201016
SUMMARY:Full Council Meeting – 15 October 2020
DESCRIPTION:Council Meeting\nView details: https://bardneygroup.parishadmin.xyz/meetings/full-council-meeting-15-october-2020/
URL:https://bardneygroup.parishadmin.xyz/meetings/full-council-meeting-15-october-2020/
END:VEVENT
END:VCALENDAR
