BEGIN:VCALENDAR
VERSION:2.0
PRODID:-//Bardney Group Parish Council//Meeting Calendar//EN
CALSCALE:GREGORIAN
METHOD:PUBLISH
BEGIN:VEVENT
UID:70641-2020-11-19@bardneygroup.parishadmin.xyz
DTSTAMP:20260422T100421Z
DTSTART;VALUE=DATE:2020-11-19
DTEND;VALUE=DATE:20201120
SUMMARY:Full Council Meeting – 19 November 2020
DESCRIPTION:Council Meeting\nView details: https://bardneygroup.parishadmin.xyz/meetings/full-council-meeting-19-november-2020/
URL:https://bardneygroup.parishadmin.xyz/meetings/full-council-meeting-19-november-2020/
END:VEVENT
END:VCALENDAR
