BEGIN:VCALENDAR
VERSION:2.0
PRODID:-//Bardney Group Parish Council//Meeting Calendar//EN
CALSCALE:GREGORIAN
METHOD:PUBLISH
BEGIN:VEVENT
UID:70643-2021-01-21@bardneygroup.parishadmin.xyz
DTSTAMP:20260422T101241Z
DTSTART;VALUE=DATE:2021-01-21
DTEND;VALUE=DATE:20210122
SUMMARY:Full Council Meeting – 21 January 2021
DESCRIPTION:Council Meeting\nView details: https://bardneygroup.parishadmin.xyz/meetings/full-council-meeting-21-january-2021/
URL:https://bardneygroup.parishadmin.xyz/meetings/full-council-meeting-21-january-2021/
END:VEVENT
END:VCALENDAR
