BEGIN:VCALENDAR
VERSION:2.0
PRODID:-//Bardney Group Parish Council//Meeting Calendar//EN
CALSCALE:GREGORIAN
METHOD:PUBLISH
BEGIN:VEVENT
UID:70645-2021-02-18@bardneygroup.parishadmin.xyz
DTSTAMP:20260422T095702Z
DTSTART;VALUE=DATE:2021-02-18
DTEND;VALUE=DATE:20210219
SUMMARY:Full Council Meeting – 18 February 2021
DESCRIPTION:Council Meeting\nView details: https://bardneygroup.parishadmin.xyz/meetings/full-council-meeting-18-february-2021/
URL:https://bardneygroup.parishadmin.xyz/meetings/full-council-meeting-18-february-2021/
END:VEVENT
END:VCALENDAR
