BEGIN:VCALENDAR
VERSION:2.0
PRODID:-//Bardney Group Parish Council//Meeting Calendar//EN
CALSCALE:GREGORIAN
METHOD:PUBLISH
BEGIN:VEVENT
UID:70649-2021-04-22@bardneygroup.parishadmin.xyz
DTSTAMP:20260422T061920Z
DTSTART;VALUE=DATE:2021-04-22
DTEND;VALUE=DATE:20210423
SUMMARY:Full Council Meeting – 22 April 2021
DESCRIPTION:Council Meeting\nView details: https://bardneygroup.parishadmin.xyz/meetings/full-council-meeting-22-april-2021/
URL:https://bardneygroup.parishadmin.xyz/meetings/full-council-meeting-22-april-2021/
END:VEVENT
END:VCALENDAR
