BEGIN:VCALENDAR
VERSION:2.0
PRODID:-//Bardney Group Parish Council//Meeting Calendar//EN
CALSCALE:GREGORIAN
METHOD:PUBLISH
BEGIN:VEVENT
UID:70653-2021-06-24@bardneygroup.parishadmin.xyz
DTSTAMP:20260422T061956Z
DTSTART;VALUE=DATE:2021-06-24
DTEND;VALUE=DATE:20210625
SUMMARY:Full Council Meeting – 24 June 2021
DESCRIPTION:Council Meeting\nView details: https://bardneygroup.parishadmin.xyz/meetings/full-council-meeting-24-june-2021/
URL:https://bardneygroup.parishadmin.xyz/meetings/full-council-meeting-24-june-2021/
END:VEVENT
END:VCALENDAR
