BEGIN:VCALENDAR
VERSION:2.0
PRODID:-//Bardney Group Parish Council//Meeting Calendar//EN
CALSCALE:GREGORIAN
METHOD:PUBLISH
BEGIN:VEVENT
UID:70655-2021-07-22@bardneygroup.parishadmin.xyz
DTSTAMP:20260422T071609Z
DTSTART;VALUE=DATE:2021-07-22
DTEND;VALUE=DATE:20210723
SUMMARY:Full Council Meeting – 22 July 2021
DESCRIPTION:Council Meeting\nView details: https://bardneygroup.parishadmin.xyz/meetings/full-council-meeting-22-july-2021/
URL:https://bardneygroup.parishadmin.xyz/meetings/full-council-meeting-22-july-2021/
END:VEVENT
END:VCALENDAR
