BEGIN:VCALENDAR
VERSION:2.0
PRODID:-//Bardney Group Parish Council//Meeting Calendar//EN
CALSCALE:GREGORIAN
METHOD:PUBLISH
BEGIN:VEVENT
UID:70657-2021-09-16@bardneygroup.parishadmin.xyz
DTSTAMP:20260422T070942Z
DTSTART;VALUE=DATE:2021-09-16
DTEND;VALUE=DATE:20210917
SUMMARY:Full Council Meeting – 16 September 2021
DESCRIPTION:Council Meeting\nView details: https://bardneygroup.parishadmin.xyz/meetings/full-council-meeting-16-september-2021/
URL:https://bardneygroup.parishadmin.xyz/meetings/full-council-meeting-16-september-2021/
END:VEVENT
END:VCALENDAR
