BEGIN:VCALENDAR
VERSION:2.0
PRODID:-//Bardney Group Parish Council//Meeting Calendar//EN
CALSCALE:GREGORIAN
METHOD:PUBLISH
BEGIN:VEVENT
UID:70659-2021-10-01@bardneygroup.parishadmin.xyz
DTSTAMP:20260422T071217Z
DTSTART;VALUE=DATE:2021-10-01
DTEND;VALUE=DATE:20211002
SUMMARY:Full Council Meeting – 1 October 2021
DESCRIPTION:Council Meeting\nView details: https://bardneygroup.parishadmin.xyz/meetings/full-council-meeting-1-october-2021/
URL:https://bardneygroup.parishadmin.xyz/meetings/full-council-meeting-1-october-2021/
END:VEVENT
END:VCALENDAR
