BEGIN:VCALENDAR
VERSION:2.0
PRODID:-//Bardney Group Parish Council//Meeting Calendar//EN
CALSCALE:GREGORIAN
METHOD:PUBLISH
BEGIN:VEVENT
UID:70661-2021-11-18@bardneygroup.parishadmin.xyz
DTSTAMP:20260422T071441Z
DTSTART;VALUE=DATE:2021-11-18
DTEND;VALUE=DATE:20211119
SUMMARY:Full Council Meeting – 18 November 2021
DESCRIPTION:Council Meeting\nView details: https://bardneygroup.parishadmin.xyz/meetings/full-council-meeting-18-november-2021/
URL:https://bardneygroup.parishadmin.xyz/meetings/full-council-meeting-18-november-2021/
END:VEVENT
END:VCALENDAR
