BEGIN:VCALENDAR
VERSION:2.0
PRODID:-//Bardney Group Parish Council//Meeting Calendar//EN
CALSCALE:GREGORIAN
METHOD:PUBLISH
BEGIN:VEVENT
UID:70663-2022-01-20@bardneygroup.parishadmin.xyz
DTSTAMP:20260422T055121Z
DTSTART;VALUE=DATE:2022-01-20
DTEND;VALUE=DATE:20220121
SUMMARY:Full Council Meeting – 20 January 2022
DESCRIPTION:Council Meeting\nView details: https://bardneygroup.parishadmin.xyz/meetings/full-council-meeting-20-january-2022/
URL:https://bardneygroup.parishadmin.xyz/meetings/full-council-meeting-20-january-2022/
END:VEVENT
END:VCALENDAR
