BEGIN:VCALENDAR
VERSION:2.0
PRODID:-//Bardney Group Parish Council//Meeting Calendar//EN
CALSCALE:GREGORIAN
METHOD:PUBLISH
BEGIN:VEVENT
UID:70665-2022-02-17@bardneygroup.parishadmin.xyz
DTSTAMP:20260422T062917Z
DTSTART;VALUE=DATE:2022-02-17
DTEND;VALUE=DATE:20220218
SUMMARY:Full Council Meeting – 17 February 2022
DESCRIPTION:Council Meeting\nView details: https://bardneygroup.parishadmin.xyz/meetings/full-council-meeting-17-february-2022/
URL:https://bardneygroup.parishadmin.xyz/meetings/full-council-meeting-17-february-2022/
END:VEVENT
END:VCALENDAR
