BEGIN:VCALENDAR
VERSION:2.0
PRODID:-//Bardney Group Parish Council//Meeting Calendar//EN
CALSCALE:GREGORIAN
METHOD:PUBLISH
BEGIN:VEVENT
UID:70796-2022-04-21@bardneygroup.parishadmin.xyz
DTSTAMP:20260422T055918Z
DTSTART;VALUE=DATE:2022-04-21
DTEND;VALUE=DATE:20220422
SUMMARY:Full Council Meeting – 21 April 2022
DESCRIPTION:Council Meeting\nView details: https://bardneygroup.parishadmin.xyz/meetings/full-council-meeting-21-april-2022/
URL:https://bardneygroup.parishadmin.xyz/meetings/full-council-meeting-21-april-2022/
END:VEVENT
END:VCALENDAR
