BEGIN:VCALENDAR
VERSION:2.0
PRODID:-//Bardney Group Parish Council//Meeting Calendar//EN
CALSCALE:GREGORIAN
METHOD:PUBLISH
BEGIN:VEVENT
UID:70797-2022-05-19@bardneygroup.parishadmin.xyz
DTSTAMP:20260422T042722Z
DTSTART;VALUE=DATE:2022-05-19
DTEND;VALUE=DATE:20220520
SUMMARY:Full Council Meeting – 19 May 2022
DESCRIPTION:Council Meeting\nView details: https://bardneygroup.parishadmin.xyz/meetings/full-council-meeting-19-may-2022/
URL:https://bardneygroup.parishadmin.xyz/meetings/full-council-meeting-19-may-2022/
END:VEVENT
END:VCALENDAR
