BEGIN:VCALENDAR
VERSION:2.0
PRODID:-//Bardney Group Parish Council//Meeting Calendar//EN
CALSCALE:GREGORIAN
METHOD:PUBLISH
BEGIN:VEVENT
UID:70798-2022-06-16@bardneygroup.parishadmin.xyz
DTSTAMP:20260422T042722Z
DTSTART;VALUE=DATE:2022-06-16
DTEND;VALUE=DATE:20220617
SUMMARY:Full Council Meeting – 16 June 2022
DESCRIPTION:Council Meeting\nView details: https://bardneygroup.parishadmin.xyz/meetings/full-council-meeting-16-june-2022/
URL:https://bardneygroup.parishadmin.xyz/meetings/full-council-meeting-16-june-2022/
END:VEVENT
END:VCALENDAR
