BEGIN:VCALENDAR
VERSION:2.0
PRODID:-//Bardney Group Parish Council//Meeting Calendar//EN
CALSCALE:GREGORIAN
METHOD:PUBLISH
BEGIN:VEVENT
UID:70801-2022-10-20@bardneygroup.parishadmin.xyz
DTSTAMP:20260422T011604Z
DTSTART;VALUE=DATE:2022-10-20
DTEND;VALUE=DATE:20221021
SUMMARY:Full Council Meeting – 20 October 2022
DESCRIPTION:Council Meeting\nView details: https://bardneygroup.parishadmin.xyz/meetings/full-council-meeting-20-october-2022/
URL:https://bardneygroup.parishadmin.xyz/meetings/full-council-meeting-20-october-2022/
END:VEVENT
END:VCALENDAR
