BEGIN:VCALENDAR
VERSION:2.0
PRODID:-//Bardney Group Parish Council//Meeting Calendar//EN
CALSCALE:GREGORIAN
METHOD:PUBLISH
BEGIN:VEVENT
UID:70802-2022-11-17@bardneygroup.parishadmin.xyz
DTSTAMP:20260422T005548Z
DTSTART;VALUE=DATE:2022-11-17
DTEND;VALUE=DATE:20221118
SUMMARY:Full Council Meeting – 17 November 2022
DESCRIPTION:Council Meeting\nView details: https://bardneygroup.parishadmin.xyz/meetings/full-council-meeting-17-november-2022/
URL:https://bardneygroup.parishadmin.xyz/meetings/full-council-meeting-17-november-2022/
END:VEVENT
END:VCALENDAR
