BEGIN:VCALENDAR
VERSION:2.0
PRODID:-//Bardney Group Parish Council//Meeting Calendar//EN
CALSCALE:GREGORIAN
METHOD:PUBLISH
BEGIN:VEVENT
UID:70803-2023-01-19@bardneygroup.parishadmin.xyz
DTSTAMP:20260422T015839Z
DTSTART;VALUE=DATE:2023-01-19
DTEND;VALUE=DATE:20230120
SUMMARY:Full Council Meeting – 19 January 2023
DESCRIPTION:Council Meeting\nView details: https://bardneygroup.parishadmin.xyz/meetings/full-council-meeting-19-january-2023/
URL:https://bardneygroup.parishadmin.xyz/meetings/full-council-meeting-19-january-2023/
END:VEVENT
END:VCALENDAR
