BEGIN:VCALENDAR
VERSION:2.0
PRODID:-//Bardney Group Parish Council//Meeting Calendar//EN
CALSCALE:GREGORIAN
METHOD:PUBLISH
BEGIN:VEVENT
UID:70804-2023-02-16@bardneygroup.parishadmin.xyz
DTSTAMP:20260422T005812Z
DTSTART;VALUE=DATE:2023-02-16
DTEND;VALUE=DATE:20230217
SUMMARY:Full Council Meeting – 16 February 2023
DESCRIPTION:Council Meeting\nView details: https://bardneygroup.parishadmin.xyz/meetings/full-council-meeting-16-february-2023/
URL:https://bardneygroup.parishadmin.xyz/meetings/full-council-meeting-16-february-2023/
END:VEVENT
END:VCALENDAR
