BEGIN:VCALENDAR
VERSION:2.0
PRODID:-//Bardney Group Parish Council//Meeting Calendar//EN
CALSCALE:GREGORIAN
METHOD:PUBLISH
BEGIN:VEVENT
UID:70805-2023-03-16@bardneygroup.parishadmin.xyz
DTSTAMP:20260421T224017Z
DTSTART;VALUE=DATE:2023-03-16
DTEND;VALUE=DATE:20230317
SUMMARY:Full Council Meeting – 16 March 2023
DESCRIPTION:Council Meeting\nView details: https://bardneygroup.parishadmin.xyz/meetings/full-council-meeting-16-march-2023/
URL:https://bardneygroup.parishadmin.xyz/meetings/full-council-meeting-16-march-2023/
END:VEVENT
END:VCALENDAR
