BEGIN:VCALENDAR
VERSION:2.0
PRODID:-//Bardney Group Parish Council//Meeting Calendar//EN
CALSCALE:GREGORIAN
METHOD:PUBLISH
BEGIN:VEVENT
UID:70806-2023-04-20@bardneygroup.parishadmin.xyz
DTSTAMP:20260421T224713Z
DTSTART;VALUE=DATE:2023-04-20
DTEND;VALUE=DATE:20230421
SUMMARY:Full Council Meeting – 20 April 2023
DESCRIPTION:Council Meeting\nView details: https://bardneygroup.parishadmin.xyz/meetings/full-council-meeting-20-april-2023/
URL:https://bardneygroup.parishadmin.xyz/meetings/full-council-meeting-20-april-2023/
END:VEVENT
END:VCALENDAR
