BEGIN:VCALENDAR
VERSION:2.0
PRODID:-//Bardney Group Parish Council//Meeting Calendar//EN
CALSCALE:GREGORIAN
METHOD:PUBLISH
BEGIN:VEVENT
UID:70807-2023-05-18@bardneygroup.parishadmin.xyz
DTSTAMP:20260421T235252Z
DTSTART;VALUE=DATE:2023-05-18
DTEND;VALUE=DATE:20230519
SUMMARY:Full Council Meeting – 18 May 2023
DESCRIPTION:Council Meeting\nView details: https://bardneygroup.parishadmin.xyz/meetings/full-council-meeting-18-may-2023/
URL:https://bardneygroup.parishadmin.xyz/meetings/full-council-meeting-18-may-2023/
END:VEVENT
END:VCALENDAR
