BEGIN:VCALENDAR
VERSION:2.0
PRODID:-//Bardney Group Parish Council//Meeting Calendar//EN
CALSCALE:GREGORIAN
METHOD:PUBLISH
BEGIN:VEVENT
UID:70808-2023-06-15@bardneygroup.parishadmin.xyz
DTSTAMP:20260421T224545Z
DTSTART;VALUE=DATE:2023-06-15
DTEND;VALUE=DATE:20230616
SUMMARY:Full Council Meeting – 15 June 2023
DESCRIPTION:Council Meeting\nView details: https://bardneygroup.parishadmin.xyz/meetings/full-council-meeting-15-june-2023/
URL:https://bardneygroup.parishadmin.xyz/meetings/full-council-meeting-15-june-2023/
END:VEVENT
END:VCALENDAR
