BEGIN:VCALENDAR
VERSION:2.0
PRODID:-//Bardney Group Parish Council//Meeting Calendar//EN
CALSCALE:GREGORIAN
METHOD:PUBLISH
BEGIN:VEVENT
UID:70809-2023-07-20@bardneygroup.parishadmin.xyz
DTSTAMP:20260421T212916Z
DTSTART;VALUE=DATE:2023-07-20
DTEND;VALUE=DATE:20230721
SUMMARY:Full Council Meeting – 20 July 2023
DESCRIPTION:Council Meeting\nView details: https://bardneygroup.parishadmin.xyz/meetings/full-council-meeting-20-july-2023/
URL:https://bardneygroup.parishadmin.xyz/meetings/full-council-meeting-20-july-2023/
END:VEVENT
END:VCALENDAR
