BEGIN:VCALENDAR
VERSION:2.0
PRODID:-//Bardney Group Parish Council//Meeting Calendar//EN
CALSCALE:GREGORIAN
METHOD:PUBLISH
BEGIN:VEVENT
UID:70810-2023-09-21@bardneygroup.parishadmin.xyz
DTSTAMP:20260421T220518Z
DTSTART;VALUE=DATE:2023-09-21
DTEND;VALUE=DATE:20230922
SUMMARY:Full Council Meeting – 21 September 2023
DESCRIPTION:Council Meeting\nView details: https://bardneygroup.parishadmin.xyz/meetings/full-council-meeting-21-september-2023/
URL:https://bardneygroup.parishadmin.xyz/meetings/full-council-meeting-21-september-2023/
END:VEVENT
END:VCALENDAR
