BEGIN:VCALENDAR
VERSION:2.0
PRODID:-//Bardney Group Parish Council//Meeting Calendar//EN
CALSCALE:GREGORIAN
METHOD:PUBLISH
BEGIN:VEVENT
UID:70811-2023-10-19@bardneygroup.parishadmin.xyz
DTSTAMP:20260421T200450Z
DTSTART;VALUE=DATE:2023-10-19
DTEND;VALUE=DATE:20231020
SUMMARY:Full Council Meeting – 19 October 2023
DESCRIPTION:Council Meeting\nView details: https://bardneygroup.parishadmin.xyz/meetings/full-council-meeting-19-october-2023/
URL:https://bardneygroup.parishadmin.xyz/meetings/full-council-meeting-19-october-2023/
END:VEVENT
END:VCALENDAR
