BEGIN:VCALENDAR
VERSION:2.0
PRODID:-//Bardney Group Parish Council//Meeting Calendar//EN
CALSCALE:GREGORIAN
METHOD:PUBLISH
BEGIN:VEVENT
UID:70813-2024-01-16@bardneygroup.parishadmin.xyz
DTSTAMP:20260421T200602Z
DTSTART;VALUE=DATE:2024-01-16
DTEND;VALUE=DATE:20240117
SUMMARY:Full Council Meeting – 16 January 2024
DESCRIPTION:Council Meeting\nView details: https://bardneygroup.parishadmin.xyz/meetings/full-council-meeting-16-january-2024/
URL:https://bardneygroup.parishadmin.xyz/meetings/full-council-meeting-16-january-2024/
END:VEVENT
END:VCALENDAR
