BEGIN:VCALENDAR
VERSION:2.0
PRODID:-//Bardney Group Parish Council//Meeting Calendar//EN
CALSCALE:GREGORIAN
METHOD:PUBLISH
BEGIN:VEVENT
UID:70814-2024-02-20@bardneygroup.parishadmin.xyz
DTSTAMP:20260421T184352Z
DTSTART;VALUE=DATE:2024-02-20
DTEND;VALUE=DATE:20240221
SUMMARY:Full Council Meeting – 20 February 2024
DESCRIPTION:Council Meeting\nView details: https://bardneygroup.parishadmin.xyz/meetings/full-council-meeting-20-february-2024/
URL:https://bardneygroup.parishadmin.xyz/meetings/full-council-meeting-20-february-2024/
END:VEVENT
END:VCALENDAR
