BEGIN:VCALENDAR
VERSION:2.0
PRODID:-//Bardney Group Parish Council//Meeting Calendar//EN
CALSCALE:GREGORIAN
METHOD:PUBLISH
BEGIN:VEVENT
UID:70815-2024-03-19@bardneygroup.parishadmin.xyz
DTSTAMP:20260421T184153Z
DTSTART;VALUE=DATE:2024-03-19
DTEND;VALUE=DATE:20240320
SUMMARY:Full Council Meeting – 19 March 2024
DESCRIPTION:Council Meeting\nView details: https://bardneygroup.parishadmin.xyz/meetings/full-council-meeting-19-march-2024/
URL:https://bardneygroup.parishadmin.xyz/meetings/full-council-meeting-19-march-2024/
END:VEVENT
END:VCALENDAR
