BEGIN:VCALENDAR
VERSION:2.0
PRODID:-//Bardney Group Parish Council//Meeting Calendar//EN
CALSCALE:GREGORIAN
METHOD:PUBLISH
BEGIN:VEVENT
UID:70817-2024-05-21@bardneygroup.parishadmin.xyz
DTSTAMP:20260421T184819Z
DTSTART;VALUE=DATE:2024-05-21
DTEND;VALUE=DATE:20240522
SUMMARY:Full Council Meeting – 21 May 2024
DESCRIPTION:Council Meeting\nView details: https://bardneygroup.parishadmin.xyz/meetings/full-council-meeting-21-may-2024/
URL:https://bardneygroup.parishadmin.xyz/meetings/full-council-meeting-21-may-2024/
END:VEVENT
END:VCALENDAR
