BEGIN:VCALENDAR
VERSION:2.0
PRODID:-//Bardney Group Parish Council//Meeting Calendar//EN
CALSCALE:GREGORIAN
METHOD:PUBLISH
BEGIN:VEVENT
UID:70818-2024-06-18@bardneygroup.parishadmin.xyz
DTSTAMP:20260422T151755Z
DTSTART;VALUE=DATE:2024-06-18
DTEND;VALUE=DATE:20240619
SUMMARY:Full Council Meeting – 18 June 2024
DESCRIPTION:Council Meeting\nView details: https://bardneygroup.parishadmin.xyz/meetings/full-council-meeting-18-june-2024/
URL:https://bardneygroup.parishadmin.xyz/meetings/full-council-meeting-18-june-2024/
END:VEVENT
END:VCALENDAR
