BEGIN:VCALENDAR
VERSION:2.0
PRODID:-//Bardney Group Parish Council//Meeting Calendar//EN
CALSCALE:GREGORIAN
METHOD:PUBLISH
BEGIN:VEVENT
UID:70819-2024-07-16@bardneygroup.parishadmin.xyz
DTSTAMP:20260422T100950Z
DTSTART;VALUE=DATE:2024-07-16
DTEND;VALUE=DATE:20240717
SUMMARY:Full Council Meeting – 16 July 2024
DESCRIPTION:Council Meeting\nView details: https://bardneygroup.parishadmin.xyz/meetings/full-council-meeting-16-july-2024/
URL:https://bardneygroup.parishadmin.xyz/meetings/full-council-meeting-16-july-2024/
END:VEVENT
END:VCALENDAR
