BEGIN:VCALENDAR
VERSION:2.0
PRODID:-//Bardney Group Parish Council//Meeting Calendar//EN
CALSCALE:GREGORIAN
METHOD:PUBLISH
BEGIN:VEVENT
UID:70820-2024-09-17@bardneygroup.parishadmin.xyz
DTSTAMP:20260422T084205Z
DTSTART;VALUE=DATE:2024-09-17
DTEND;VALUE=DATE:20240918
SUMMARY:Full Council Meeting – 17 September 2024
DESCRIPTION:Council Meeting\nView details: https://bardneygroup.parishadmin.xyz/meetings/full-council-meeting-17-september-2024/
URL:https://bardneygroup.parishadmin.xyz/meetings/full-council-meeting-17-september-2024/
END:VEVENT
END:VCALENDAR
