BEGIN:VCALENDAR
VERSION:2.0
PRODID:-//Bardney Group Parish Council//Meeting Calendar//EN
CALSCALE:GREGORIAN
METHOD:PUBLISH
BEGIN:VEVENT
UID:70822-2024-11-19@bardneygroup.parishadmin.xyz
DTSTAMP:20260420T080433Z
DTSTART;VALUE=DATE:2024-11-19
DTEND;VALUE=DATE:20241120
SUMMARY:Full Council Meeting – 19 November 2024
DESCRIPTION:Council Meeting\nView details: https://bardneygroup.parishadmin.xyz/meetings/full-council-meeting-19-november-2024/
URL:https://bardneygroup.parishadmin.xyz/meetings/full-council-meeting-19-november-2024/
END:VEVENT
END:VCALENDAR
