BEGIN:VCALENDAR
VERSION:2.0
PRODID:-//Bardney Group Parish Council//Meeting Calendar//EN
CALSCALE:GREGORIAN
METHOD:PUBLISH
BEGIN:VEVENT
UID:70836-2024-02-06@bardneygroup.parishadmin.xyz
DTSTAMP:20260422T182453Z
DTSTART;VALUE=DATE:2024-02-06
DTEND;VALUE=DATE:20240207
SUMMARY:Personnel and Review Committee Meeting – 6 February 2024
DESCRIPTION:Council Meeting\nView details: https://bardneygroup.parishadmin.xyz/meetings/personnel-and-review-committee-meeting-6-february-2024/
URL:https://bardneygroup.parishadmin.xyz/meetings/personnel-and-review-committee-meeting-6-february-2024/
END:VEVENT
END:VCALENDAR
