BEGIN:VCALENDAR
VERSION:2.0
PRODID:-//Bardney Group Parish Council//Meeting Calendar//EN
CALSCALE:GREGORIAN
METHOD:PUBLISH
BEGIN:VEVENT
UID:71016-2023-09-08@bardneygroup.parishadmin.xyz
DTSTAMP:20260424T084709Z
DTSTART;VALUE=DATE:2023-09-08
DTEND;VALUE=DATE:20230909
SUMMARY:Personnel and Review Committee Meeting – 8 September 2023
DESCRIPTION:Council Meeting\nView details: https://bardneygroup.parishadmin.xyz/meetings/personnel-and-review-committee-meeting-september-2023/
URL:https://bardneygroup.parishadmin.xyz/meetings/personnel-and-review-committee-meeting-september-2023/
END:VEVENT
END:VCALENDAR
