BEGIN:VCALENDAR
VERSION:2.0
PRODID:-//Bardney Group Parish Council//Meeting Calendar//EN
CALSCALE:GREGORIAN
METHOD:PUBLISH
BEGIN:VEVENT
UID:71019-2023-11-09@bardneygroup.parishadmin.xyz
DTSTAMP:20260422T191827Z
DTSTART;VALUE=DATE:2023-11-09
DTEND;VALUE=DATE:20231110
SUMMARY:Personnel and Review Committee Meeting – 9 November 2023
DESCRIPTION:Council Meeting\nView details: https://bardneygroup.parishadmin.xyz/meetings/personnel-and-review-committee-meeting-november-2023/
URL:https://bardneygroup.parishadmin.xyz/meetings/personnel-and-review-committee-meeting-november-2023/
END:VEVENT
END:VCALENDAR
