BEGIN:VCALENDAR
VERSION:2.0
PRODID:-//Bardney Group Parish Council//Meeting Calendar//EN
CALSCALE:GREGORIAN
METHOD:PUBLISH
BEGIN:VEVENT
UID:71048-2023-08-24@bardneygroup.parishadmin.xyz
DTSTAMP:20260421T212629Z
DTSTART;VALUE=DATE:2023-08-24
DTEND;VALUE=DATE:20230825
SUMMARY:Extraordinary Full Council Meeting – 24 August 2023
DESCRIPTION:Council Meeting\nView details: https://bardneygroup.parishadmin.xyz/meetings/extraordinary-full-council-meeting-24-august-2023/
URL:https://bardneygroup.parishadmin.xyz/meetings/extraordinary-full-council-meeting-24-august-2023/
END:VEVENT
END:VCALENDAR
