BEGIN:VCALENDAR
VERSION:2.0
PRODID:-//Bardney Group Parish Council//Meeting Calendar//EN
CALSCALE:GREGORIAN
METHOD:PUBLISH
BEGIN:VEVENT
UID:71242-2026-02-04@bardneygroup.parishadmin.xyz
DTSTAMP:20260421T111510Z
DTSTART;VALUE=DATE:2026-02-04
DTEND;VALUE=DATE:20260205
SUMMARY:Extraordinary Full Council Meeting – 4 February 2026
DESCRIPTION:Council Meeting\nView details: https://bardneygroup.parishadmin.xyz/meetings/extraordinary-full-council-meeting-4-february-2026/
URL:https://bardneygroup.parishadmin.xyz/meetings/extraordinary-full-council-meeting-4-february-2026/
END:VEVENT
END:VCALENDAR
